BEGIN:VCALENDAR
VERSION:2.0
PRODID:Events Booking
BEGIN:VEVENT
UID:69e737d34b7e8
SUMMARY:Working With Expert Witnesses
DESCRIPTION:Preparing an expert witness for trial is critical to your job a
 s counsel. &nbsp\;How your expert performs at deposition is likely to have
  a critical\, and sometimes dispositive\, influence on the outcome of your
  case. How you prepare your expert may well determine how he/she performs.
  Preparation of your expert is within your control and is your responsibil
 ity as retaining counsel. Prepare your expert well\, and enjoy the rewards
 . Fail to prepare your expert and risk the consequences. This webinar will
  provide you with a proven protocol to effectively prepare your expert wit
 ness for deposition.
DTSTART:20151120T090000Z
DTEND:20151120T010000Z
DTSTAMP:20260421T083947Z
ORGANIZER;CN=Bridgeport Legal Conferences:MAILTO:registration@bridgeportce.
 com
END:VEVENT
END:VCALENDAR